BEGIN:VCALENDAR
VERSION:2.0
PRODID:-//wp-events-plugin.com//7.2.3.1//EN
TZID:Europe/London
X-WR-TIMEZONE:Europe/London
BEGIN:VEVENT
UID:1624@camdencyclists.org.uk
DTSTART;TZID=Europe/London:20180520T140000
DTEND;TZID=Europe/London:20180520T180000
DTSTAMP:20180520T112618Z
URL:https://camdencyclists.org.uk/events/afternoon-ride-to-south-hertfords
 hire/
SUMMARY:Afternoon Ride to South Hertfordshire
DESCRIPTION:Brisk afternoon ride to South Hertfordshire led by James Brande
 r.
CATEGORIES:Rides
LOCATION:South End Green\, South End Green\, Hampstead\, United Kingdom
GEO:51.55439759999999;-0.16534360000002835
X-APPLE-STRUCTURED-LOCATION;VALUE=URI;X-ADDRESS=South End Green\, Hampstead
 \, United Kingdom;X-APPLE-RADIUS=100;X-TITLE=South End Green:geo:51.554397
 59999999,-0.16534360000002835
END:VEVENT
BEGIN:VTIMEZONE
TZID:Europe/London
X-LIC-LOCATION:Europe/London
BEGIN:DAYLIGHT
DTSTART:20180325T020000
TZOFFSETFROM:+0000
TZOFFSETTO:+0100
TZNAME:BST
END:DAYLIGHT
END:VTIMEZONE
END:VCALENDAR