BEGIN:VCALENDAR
VERSION:2.0
PRODID:-//wp-events-plugin.com//7.2.3.1//EN
TZID:Europe/London
X-WR-TIMEZONE:Europe/London
BEGIN:VEVENT
UID:1623@camdencyclists.org.uk
DTSTART;TZID=Europe/London:20180422T110000
DTEND;TZID=Europe/London:20180422T150000
DTSTAMP:20180416T220445Z
URL:https://camdencyclists.org.uk/events/brent-parks-ride/
SUMMARY:Brent Parks Ride
DESCRIPTION:Gentle\, leisurely ride around Brent parks. Suitable for famili
 es and beginner cyclists. 10mile round trip. Sunday 22nd April 2018. 11am.
  Sidings Community Centre.\n
ATTACH;FMTTYPE=image/jpeg:https://camdencyclists.org.uk/wp-content/uploads
 /2018/04/Brent-Parks-Ride-sm.jpg
CATEGORIES:Rides
LOCATION:Sidings Community Centre\, 150 Brassey Road\, West Hampstead\, Lon
 don\, NW6 2BA\, United Kingdom
GEO:51.549072;-0.199354
X-APPLE-STRUCTURED-LOCATION;VALUE=URI;X-ADDRESS=150 Brassey Road\, West Ham
 pstead\, London\, NW6 2BA\, United Kingdom;X-APPLE-RADIUS=100;X-TITLE=Sidi
 ngs Community Centre:geo:51.549072,-0.199354
END:VEVENT
BEGIN:VTIMEZONE
TZID:Europe/London
X-LIC-LOCATION:Europe/London
BEGIN:DAYLIGHT
DTSTART:20180325T020000
TZOFFSETFROM:+0000
TZOFFSETTO:+0100
TZNAME:BST
END:DAYLIGHT
END:VTIMEZONE
END:VCALENDAR