BEGIN:VCALENDAR
VERSION:2.0
PRODID:-//wp-events-plugin.com//7.2.3.1//EN
TZID:Europe/London
X-WR-TIMEZONE:Europe/London
BEGIN:VEVENT
UID:1804@camdencyclists.org.uk
DTSTART;TZID=Europe/London:20250719T141500
DTEND;TZID=Europe/London:20250719T173000
DTSTAMP:20250716T173808Z
URL:https://camdencyclists.org.uk/events/camden-cyclists-ice-cream-ride-sa
 turday-19th-july-2025/
SUMMARY:&#x1f366\;Camden Cyclists ‘Ice Cream Ride’ Saturday 19th July 2
 025&#x1f366\;
DESCRIPTION:Easy paced circular\, family ride around three ice cream parlou
 rs
ATTACH;FMTTYPE=image/jpeg:https://camdencyclists.org.uk/wp-content/uploads
 /2024/10/20240929_134251.jpg
CATEGORIES:Rides
LOCATION:Sidings Community Centre\, 150 Brassey Road\, West Hampstead\, Lon
 don\, NW6 2BA\, United Kingdom
GEO:51.549072;-0.199354
X-APPLE-STRUCTURED-LOCATION;VALUE=URI;X-ADDRESS=150 Brassey Road\, West Ham
 pstead\, London\, NW6 2BA\, United Kingdom;X-APPLE-RADIUS=100;X-TITLE=Sidi
 ngs Community Centre:geo:51.549072,-0.199354
END:VEVENT
BEGIN:VTIMEZONE
TZID:Europe/London
X-LIC-LOCATION:Europe/London
BEGIN:DAYLIGHT
DTSTART:20250330T020000
TZOFFSETFROM:+0000
TZOFFSETTO:+0100
TZNAME:BST
END:DAYLIGHT
END:VTIMEZONE
END:VCALENDAR