BEGIN:VCALENDAR
VERSION:2.0
PRODID:-//wp-events-plugin.com//7.2.3.1//EN
TZID:Europe/London
X-WR-TIMEZONE:Europe/London
BEGIN:VEVENT
UID:1801@camdencyclists.org.uk
DTSTART;TZID=Europe/London:20250518T140000
DTEND;TZID=Europe/London:20250518T180000
DTSTAMP:20250515T173324Z
URL:https://camdencyclists.org.uk/events/camden-cyclists-ride-to-richmond-
 park/
SUMMARY:Camden Cyclists’ Ride to Richmond Park
DESCRIPTION:Meet at 1:45 for 2:00 pm start from Camden Town Hall for an aft
 ernoon ride to Richmond Park and back.
CATEGORIES:Rides
LOCATION:Camden Town Hall\, Judd Street\, London\, England\, WC1H 9JE\, Lon
 don Borough of Camden\, United Kingdom
GEO:51.528702;-0.12573
X-APPLE-STRUCTURED-LOCATION;VALUE=URI;X-ADDRESS=Judd Street\, London\, Engl
 and\, WC1H 9JE\, London Borough of Camden\, United Kingdom;X-APPLE-RADIUS=
 100;X-TITLE=Camden Town Hall:geo:51.528702,-0.12573
END:VEVENT
BEGIN:VTIMEZONE
TZID:Europe/London
X-LIC-LOCATION:Europe/London
BEGIN:DAYLIGHT
DTSTART:20250330T020000
TZOFFSETFROM:+0000
TZOFFSETTO:+0100
TZNAME:BST
END:DAYLIGHT
END:VTIMEZONE
END:VCALENDAR