BEGIN:VCALENDAR
VERSION:2.0
PRODID:-//wp-events-plugin.com//7.2.3.1//EN
TZID:Europe/London
X-WR-TIMEZONE:Europe/London
BEGIN:VEVENT
UID:1802@camdencyclists.org.uk
DTSTART;TZID=Europe/London:20250525T120000
DTEND;TZID=Europe/London:20250525T160000
DTSTAMP:20250508T175231Z
URL:https://camdencyclists.org.uk/events/camden-feeder-to-islington-festiv
 al-of-cycling-group-ride/
SUMMARY:Camden Feeder to Islington Festival of Cycling Group Ride
DESCRIPTION:Sunday 25th is the London Festival of Cycling! Join us for a fe
 eder ride to the Islington afternoon Group Ride. Meet at 12 noon at Swiss
  Cottage Library.
CATEGORIES:Rides
LOCATION:Swiss Cottage Gardens\, Winchester Road\, London\, NW3 3EX\, Unite
 d Kingdom
GEO:51.5429751;-0.17353779999996277
X-APPLE-STRUCTURED-LOCATION;VALUE=URI;X-ADDRESS=Winchester Road\, London\, 
 NW3 3EX\, United Kingdom;X-APPLE-RADIUS=100;X-TITLE=Swiss Cottage Gardens:
 geo:51.5429751,-0.17353779999996277
END:VEVENT
BEGIN:VTIMEZONE
TZID:Europe/London
X-LIC-LOCATION:Europe/London
BEGIN:DAYLIGHT
DTSTART:20250330T020000
TZOFFSETFROM:+0000
TZOFFSETTO:+0100
TZNAME:BST
END:DAYLIGHT
END:VTIMEZONE
END:VCALENDAR