BEGIN:VCALENDAR
VERSION:2.0
PRODID:-//wp-events-plugin.com//7.2.3.1//EN
TZID:Europe/London
X-WR-TIMEZONE:Europe/London
BEGIN:VEVENT
UID:1806@camdencyclists.org.uk
DTSTART;TZID=Europe/London:20250727T120000
DTEND;TZID=Europe/London:20250727T153000
DTSTAMP:20250709T174908Z
URL:https://camdencyclists.org.uk/events/camden-summer-bike-adventure/
SUMMARY:&#x1f6b4\;&#x200d\;&#x2642\;&#xfe0f\;&#x2600\;&#xfe0f\; Camden Summ
 er Bike Adventure &#x2600\;&#xfe0f\;&#x1f6b4\;&#x200d\;&#x2640\;&#xfe0f\;
DESCRIPTION:Calling all kids (and parents)! Ready for a super fun bike ride
  to kick off the summer holidays?
CATEGORIES:Rides
LOCATION:Talacre Gardens\, Talacre Road\, London\, NW5 3PH\, United Kingdom
GEO:51.546985;-0.148293
X-APPLE-STRUCTURED-LOCATION;VALUE=URI;X-ADDRESS=Talacre Road\, London\, NW5
  3PH\, United Kingdom;X-APPLE-RADIUS=100;X-TITLE=Talacre Gardens:geo:51.54
 6985,-0.148293
END:VEVENT
BEGIN:VTIMEZONE
TZID:Europe/London
X-LIC-LOCATION:Europe/London
BEGIN:DAYLIGHT
DTSTART:20250330T020000
TZOFFSETFROM:+0000
TZOFFSETTO:+0100
TZNAME:BST
END:DAYLIGHT
END:VTIMEZONE
END:VCALENDAR