BEGIN:VCALENDAR
VERSION:2.0
PRODID:-//wp-events-plugin.com//7.2.3.1//EN
TZID:Europe/London
X-WR-TIMEZONE:Europe/London
BEGIN:VEVENT
UID:1679@camdencyclists.org.uk
DTSTART;TZID=Europe/London:20220505T140000
DTEND;TZID=Europe/London:20220505T170000
DTSTAMP:20220430T112926Z
URL:https://camdencyclists.org.uk/events/dr-bike-at-goldington/
SUMMARY:Dr Bike at the Goldington TRA
DESCRIPTION:Camden Cyclists' Dr Bike and Cycle Buddies return with Think & 
 Do on the Goldington Estate
CATEGORIES:Dr Bike
LOCATION:Goldington Estate TRA\, Doreen Bazell TRA\, 1 Goldington Street\, 
 London\, NW1 1UG\, United Kingdom
GEO:51.533807;-0.130709
X-APPLE-STRUCTURED-LOCATION;VALUE=URI;X-ADDRESS=Doreen Bazell TRA\, 1 Goldi
 ngton Street\, London\, NW1 1UG\, United Kingdom;X-APPLE-RADIUS=100;X-TITL
 E=Goldington Estate TRA:geo:51.533807,-0.130709
END:VEVENT
BEGIN:VTIMEZONE
TZID:Europe/London
X-LIC-LOCATION:Europe/London
BEGIN:DAYLIGHT
DTSTART:20220327T020000
TZOFFSETFROM:+0000
TZOFFSETTO:+0100
TZNAME:BST
END:DAYLIGHT
END:VTIMEZONE
END:VCALENDAR