BEGIN:VCALENDAR
VERSION:2.0
PRODID:-//wp-events-plugin.com//7.2.3.1//EN
TZID:Europe/London
X-WR-TIMEZONE:Europe/London
BEGIN:VEVENT
UID:1674@camdencyclists.org.uk
DTSTART;TZID=Europe/London:20220326T120000
DTEND;TZID=Europe/London:20220326T160000
DTSTAMP:20220324T122021Z
URL:https://camdencyclists.org.uk/events/dr-bike-on-hilgrove-estate/
SUMMARY:Dr Bike on the Hilgrove Estate
DESCRIPTION:Camden Cyclists' Dr Bike on the Hilgrove Estate. Free cycle che
 cks and simple repairs.
CATEGORIES:Advice Stall,Dr Bike
LOCATION:Hilgrove Estate\, Freeling House\, Dorman Way\, London\, NW8 0RX\,
  United Kingdom
GEO:51.54011;-0.176782
X-APPLE-STRUCTURED-LOCATION;VALUE=URI;X-ADDRESS=Freeling House\, Dorman Way
 \, London\, NW8 0RX\, United Kingdom;X-APPLE-RADIUS=100;X-TITLE=Hilgrove E
 state:geo:51.54011,-0.176782
END:VEVENT
BEGIN:VTIMEZONE
TZID:Europe/London
X-LIC-LOCATION:Europe/London
BEGIN:STANDARD
DTSTART:20211031T010000
TZOFFSETFROM:+0100
TZOFFSETTO:+0000
TZNAME:GMT
END:STANDARD
END:VTIMEZONE
END:VCALENDAR