BEGIN:VCALENDAR
VERSION:2.0
PRODID:-//wp-events-plugin.com//7.2.3.1//EN
TZID:Europe/London
X-WR-TIMEZONE:Europe/London
BEGIN:VEVENT
UID:1670@camdencyclists.org.uk
DTSTART;TZID=Europe/London:20220210T140000
DTEND;TZID=Europe/London:20220210T160000
DTSTAMP:20220208T190618Z
URL:https://camdencyclists.org.uk/events/dr-bike-on-ossulston-street-2/
SUMMARY:Dr Bike on Ossulston Street
DESCRIPTION:Camden Cyclists' Dr Bike with Think & Do on Ossulston Street. F
 ree cycle checks and simple repairs.
CATEGORIES:Advice Stall,Dr Bike
LOCATION:Somers Town Community Centre\, 150 Ossulston Street\,\,  London\, 
  NW1 1EE\, United Kingdom
GEO:51.531852;-0.130899
X-APPLE-STRUCTURED-LOCATION;VALUE=URI;X-ADDRESS=150 Ossulston Street\,\,  L
 ondon\,  NW1 1EE\, United Kingdom;X-APPLE-RADIUS=100;X-TITLE=Somers Town C
 ommunity Centre:geo:51.531852,-0.130899
END:VEVENT
BEGIN:VTIMEZONE
TZID:Europe/London
X-LIC-LOCATION:Europe/London
BEGIN:STANDARD
DTSTART:20211031T010000
TZOFFSETFROM:+0100
TZOFFSETTO:+0000
TZNAME:GMT
END:STANDARD
END:VTIMEZONE
END:VCALENDAR