BEGIN:VCALENDAR
VERSION:2.0
PRODID:-//wp-events-plugin.com//7.2.3.1//EN
TZID:Europe/London
X-WR-TIMEZONE:Europe/London
BEGIN:VEVENT
UID:1669@camdencyclists.org.uk
DTSTART;TZID=Europe/London:20220203T140000
DTEND;TZID=Europe/London:20220203T160000
DTSTAMP:20220202T161125Z
URL:https://camdencyclists.org.uk/events/dr-bike-on-ossulston-street/
SUMMARY:Dr Bike on Ossulston Street
DESCRIPTION:Camden Cyclists' Dr Bike with Think & Do on Ossulston Street
CATEGORIES:Dr Bike
END:VEVENT
BEGIN:VTIMEZONE
TZID:Europe/London
X-LIC-LOCATION:Europe/London
BEGIN:STANDARD
DTSTART:20211031T010000
TZOFFSETFROM:+0100
TZOFFSETTO:+0000
TZNAME:GMT
END:STANDARD
END:VTIMEZONE
END:VCALENDAR