BEGIN:VCALENDAR
VERSION:2.0
PRODID:-//wp-events-plugin.com//7.2.3.1//EN
TZID:Europe/London
X-WR-TIMEZONE:Europe/London
BEGIN:VEVENT
UID:1675@camdencyclists.org.uk
DTSTART;TZID=Europe/London:20220512T153000
DTEND;TZID=Europe/London:20220512T173000
DTSTAMP:20220425T063919Z
URL:https://camdencyclists.org.uk/events/dr-bike-on-the-ossulston-estate-5
 /
SUMMARY:Dr Bike on Ossulston Street
DESCRIPTION:Camden Cyclists' Dr Bike and Cycle Buddies return with Think & 
 Do on the Ossulston Estate
CATEGORIES:Dr Bike
LOCATION:Ossulston Estate TRA\, Ossulston Street\, London\, NW1 1DF\, Unite
 d Kingdom
GEO:51.53099;-0.130028
X-APPLE-STRUCTURED-LOCATION;VALUE=URI;X-ADDRESS=Ossulston Street\, London\,
  NW1 1DF\, United Kingdom;X-APPLE-RADIUS=100;X-TITLE=Ossulston Estate TRA:
 geo:51.53099,-0.130028
END:VEVENT
BEGIN:VTIMEZONE
TZID:Europe/London
X-LIC-LOCATION:Europe/London
BEGIN:DAYLIGHT
DTSTART:20220327T020000
TZOFFSETFROM:+0000
TZOFFSETTO:+0100
TZNAME:BST
END:DAYLIGHT
END:VTIMEZONE
END:VCALENDAR