BEGIN:VCALENDAR
VERSION:2.0
PRODID:-//wp-events-plugin.com//7.2.3.1//EN
TZID:Europe/London
X-WR-TIMEZONE:Europe/London
BEGIN:VEVENT
UID:1786@camdencyclists.org.uk
DTSTART;TZID=Europe/London:20250329T140000
DTEND;TZID=Europe/London:20250329T153000
DTSTAMP:20250302T180536Z
URL:https://camdencyclists.org.uk/events/explore-cycling-meetup-march-2025
 /
SUMMARY:Explore Cycling Spring Meetup &#x1f6b2\; &#x2615\;
DESCRIPTION:Join Camden Cyclists for a relaxed meetup. Hire Bike and Cargo 
 Bike users welcome!
CATEGORIES:Meeting
LOCATION:Camden Coffee Roastery\, 12 Castlehaven Road\, London\, NW1 8QU\, 
 United Kingdom
GEO:51.542284;-0.144788
X-APPLE-STRUCTURED-LOCATION;VALUE=URI;X-ADDRESS=12 Castlehaven Road\, Londo
 n\, NW1 8QU\, United Kingdom;X-APPLE-RADIUS=100;X-TITLE=Camden Coffee Roas
 tery:geo:51.542284,-0.144788
END:VEVENT
BEGIN:VTIMEZONE
TZID:Europe/London
X-LIC-LOCATION:Europe/London
BEGIN:STANDARD
DTSTART:20241027T010000
TZOFFSETFROM:+0100
TZOFFSETTO:+0000
TZNAME:GMT
END:STANDARD
END:VTIMEZONE
END:VCALENDAR