BEGIN:VCALENDAR
VERSION:2.0
PRODID:-//wp-events-plugin.com//7.2.3.1//EN
TZID:Europe/London
X-WR-TIMEZONE:Europe/London
BEGIN:VEVENT
UID:1678@camdencyclists.org.uk
DTSTART;TZID=Europe/London:20220521T113000
DTEND;TZID=Europe/London:20220521T130000
DTSTAMP:20220521T085436Z
URL:https://camdencyclists.org.uk/events/face-to-face-get-together/
SUMMARY:Face-to-face get together at Camley Street Natural Park
DESCRIPTION:First face-to-face  gathering since February 2020.
LOCATION:Camley Street Natural Park\, 12 Camley Street\, London\, London\, 
 N1C 4PW\, United Kingdom
GEO:51.535157;-0.127602
X-APPLE-STRUCTURED-LOCATION;VALUE=URI;X-ADDRESS=12 Camley Street\, London\,
  London\, N1C 4PW\, United Kingdom;X-APPLE-RADIUS=100;X-TITLE=Camley Stree
 t Natural Park:geo:51.535157,-0.127602
END:VEVENT
BEGIN:VTIMEZONE
TZID:Europe/London
X-LIC-LOCATION:Europe/London
BEGIN:DAYLIGHT
DTSTART:20220327T020000
TZOFFSETFROM:+0000
TZOFFSETTO:+0100
TZNAME:BST
END:DAYLIGHT
END:VTIMEZONE
END:VCALENDAR