BEGIN:VCALENDAR
VERSION:2.0
PRODID:-//wp-events-plugin.com//7.2.3.1//EN
TZID:Europe/London
X-WR-TIMEZONE:Europe/London
BEGIN:VEVENT
UID:1625@camdencyclists.org.uk
DTSTART;TZID=Europe/London:20180610T100000
DTEND;TZID=Europe/London:20180610T170000
DTSTAMP:20180531T200504Z
URL:https://camdencyclists.org.uk/events/lea-valley-ride-3/
SUMMARY:Lea Valley Ride
DESCRIPTION:No Periphérique this year! Instead an all day family ride to t
 he Lea Valley with our friends from Islington. Start in Camden (Sidings Co
 mmunity Centre or Highgate Road) or Islington (Town Hall).
ATTACH;FMTTYPE=image/jpeg:https://camdencyclists.org.uk/wp-content/uploads
 /2018/05/Lea-Valley-e1525803028371.jpg
CATEGORIES:Rides
LOCATION:Highgate Road NW5 1RP\, Highgate Road\, London\, NW5 1RP\, United 
 Kingdom
GEO:51.5601646555192;-0.15000239577022967
X-APPLE-STRUCTURED-LOCATION;VALUE=URI;X-ADDRESS=Highgate Road\, London\, NW
 5 1RP\, United Kingdom;X-APPLE-RADIUS=100;X-TITLE=Highgate Road NW5 1RP:ge
 o:51.5601646555192,-0.15000239577022967
END:VEVENT
BEGIN:VTIMEZONE
TZID:Europe/London
X-LIC-LOCATION:Europe/London
BEGIN:DAYLIGHT
DTSTART:20180325T020000
TZOFFSETFROM:+0000
TZOFFSETTO:+0100
TZNAME:BST
END:DAYLIGHT
END:VTIMEZONE
END:VCALENDAR