BEGIN:VCALENDAR
VERSION:2.0
PRODID:-//wp-events-plugin.com//7.2.3.1//EN
TZID:Europe/London
X-WR-TIMEZONE:Europe/London
BEGIN:VEVENT
UID:81@camdencyclists.org.uk
DTSTART;TZID=Europe/London:20150201T103000
DTEND;TZID=Europe/London:20150201T163000
DTSTAMP:20150118T141804Z
URL:https://camdencyclists.org.uk/events/london-parks-ride/
SUMMARY:London Parks Ride
DESCRIPTION:A gentle ride round the Inner London Parks
CATEGORIES:Rides
LOCATION:Garden Café\, Regent's Park\, Inner Circle\, London\, NW1 4NU\, U
 nited Kingdom
GEO:51.52706133898212;-0.15568922753902825
X-APPLE-STRUCTURED-LOCATION;VALUE=URI;X-ADDRESS=Inner Circle\, London\, NW1
  4NU\, United Kingdom;X-APPLE-RADIUS=100;X-TITLE=Garden Café\, Regent's P
 ark:geo:51.52706133898212,-0.15568922753902825
END:VEVENT
BEGIN:VTIMEZONE
TZID:Europe/London
X-LIC-LOCATION:Europe/London
BEGIN:STANDARD
DTSTART:20141026T010000
TZOFFSETFROM:+0100
TZOFFSETTO:+0000
TZNAME:GMT
END:STANDARD
END:VTIMEZONE
END:VCALENDAR